BEGIN:VCALENDAR
VERSION:2.0
PRODID:-//Town of Sharpsburg, Maryland - ECPv6.15.20//NONSGML v1.0//EN
CALSCALE:GREGORIAN
METHOD:PUBLISH
X-ORIGINAL-URL:https://sharpsburgmd.com
X-WR-CALDESC:Events for Town of Sharpsburg, Maryland
REFRESH-INTERVAL;VALUE=DURATION:PT1H
X-Robots-Tag:noindex
X-PUBLISHED-TTL:PT1H
BEGIN:VTIMEZONE
TZID:America/New_York
BEGIN:DAYLIGHT
TZOFFSETFROM:-0500
TZOFFSETTO:-0400
TZNAME:EDT
DTSTART:20250309T070000
END:DAYLIGHT
BEGIN:STANDARD
TZOFFSETFROM:-0400
TZOFFSETTO:-0500
TZNAME:EST
DTSTART:20251102T060000
END:STANDARD
BEGIN:DAYLIGHT
TZOFFSETFROM:-0500
TZOFFSETTO:-0400
TZNAME:EDT
DTSTART:20260308T070000
END:DAYLIGHT
BEGIN:STANDARD
TZOFFSETFROM:-0400
TZOFFSETTO:-0500
TZNAME:EST
DTSTART:20261101T060000
END:STANDARD
BEGIN:DAYLIGHT
TZOFFSETFROM:-0500
TZOFFSETTO:-0400
TZNAME:EDT
DTSTART:20270314T070000
END:DAYLIGHT
BEGIN:STANDARD
TZOFFSETFROM:-0400
TZOFFSETTO:-0500
TZNAME:EST
DTSTART:20271107T060000
END:STANDARD
END:VTIMEZONE
BEGIN:VEVENT
DTSTART;TZID=America/New_York:20260406T180000
DTEND;TZID=America/New_York:20260406T200000
DTSTAMP:20260423T101638
CREATED:20251209T154420Z
LAST-MODIFIED:20260401T144519Z
UID:1680-1775498400-1775505600@sharpsburgmd.com
SUMMARY:M&C MEETING
DESCRIPTION:SHARPSBURG MAYOR AND COUNCIL \nREGULAR MEETING AGENDA \nApril 6\, 2026 \n6:00 PM \nREGULAR MEETING CALL TO ORDER AND PLEDGE \nAPPROVAL OF AGENDA \nGUESTS – Planning Commission Community Survey Presentation – Brianna Candelaria \nCITIZEN COMMENTS – (citizens comments are limited to 3 minutes per person) \nAPPROVAL OF MINUTES \nRegular Meeting Minutes – March 9\, 2026 \nPublic Hearing Minutes – March 9\, 2026 \nAPPROVAL OF FINANCIAL REPORT – March 2026 \nZONING ADMINISTATORS REPORT – Tim Lung \nMAYORS COMMENT(S) – Mayor Weaver \nCOUNCIL MEMBERS REPORTS \nCouncil Member McCullough \nCouncil Member Kudla \nVice Mayor Martz \nCouncil Member H. Waters \nCouncil Member R. Waters \n  \nCOMMUNITY PARTNERS \nCommunity Deputy – M. Deputy Watkins \nBattlefield Advisory Committee/Antietam Institute – Chris Vincent \nSharpsburgh Museum of History \nUNFINISHED BUSINESS \nNEW BUSINESS \nFY27 Community Deputy Agreement Renewal \nAmendment to the FY26 Municipal/Corporate Monthly Interest/Penalty Tax Rate \nSharpsburg Elementary School Destination Imagination Donation Request \nCORRESPONDENCE/ANNOUNCEMENTS \n\nSpring Brush Collection – April 13th-17th\nFishing Rodeo – April 25th (7-10AM)\n\nADJOURNMENT
URL:https://sharpsburgmd.com/event/mc-meeting-10/
LOCATION:MD
END:VEVENT
END:VCALENDAR