BEGIN:VCALENDAR
VERSION:2.0
PRODID:-//Town of Sharpsburg, Maryland - ECPv6.15.20//NONSGML v1.0//EN
CALSCALE:GREGORIAN
METHOD:PUBLISH
X-ORIGINAL-URL:https://sharpsburgmd.com
X-WR-CALDESC:Events for Town of Sharpsburg, Maryland
REFRESH-INTERVAL;VALUE=DURATION:PT1H
X-Robots-Tag:noindex
X-PUBLISHED-TTL:PT1H
BEGIN:VTIMEZONE
TZID:America/New_York
BEGIN:DAYLIGHT
TZOFFSETFROM:-0500
TZOFFSETTO:-0400
TZNAME:EDT
DTSTART:20250309T070000
END:DAYLIGHT
BEGIN:STANDARD
TZOFFSETFROM:-0400
TZOFFSETTO:-0500
TZNAME:EST
DTSTART:20251102T060000
END:STANDARD
BEGIN:DAYLIGHT
TZOFFSETFROM:-0500
TZOFFSETTO:-0400
TZNAME:EDT
DTSTART:20260308T070000
END:DAYLIGHT
BEGIN:STANDARD
TZOFFSETFROM:-0400
TZOFFSETTO:-0500
TZNAME:EST
DTSTART:20261101T060000
END:STANDARD
BEGIN:DAYLIGHT
TZOFFSETFROM:-0500
TZOFFSETTO:-0400
TZNAME:EDT
DTSTART:20270314T070000
END:DAYLIGHT
BEGIN:STANDARD
TZOFFSETFROM:-0400
TZOFFSETTO:-0500
TZNAME:EST
DTSTART:20271107T060000
END:STANDARD
END:VTIMEZONE
BEGIN:VEVENT
DTSTART;TZID=America/New_York:20260413T080000
DTEND;TZID=America/New_York:20260417T160000
DTSTAMP:20260423T103737
CREATED:20260303T160719Z
LAST-MODIFIED:20260303T160719Z
UID:1789-1776067200-1776441600@sharpsburgmd.com
SUMMARY:Spring Brush Collection
DESCRIPTION:Spring Brush Collection \nWeek of April 13-17 \nNothing larger than 6″ in diameter \nLoads no larger than the size of a small truck bed \nQuestions can be directed to Robbie Waters at 240.382.4561 \n  \n~collection for town residents only~
URL:https://sharpsburgmd.com/event/spring-brush-collection/
LOCATION:MD
END:VEVENT
END:VCALENDAR