BEGIN:VCALENDAR
VERSION:2.0
PRODID:-//Town of Sharpsburg, Maryland - ECPv6.15.20//NONSGML v1.0//EN
CALSCALE:GREGORIAN
METHOD:PUBLISH
X-WR-CALNAME:Town of Sharpsburg, Maryland
X-ORIGINAL-URL:https://sharpsburgmd.com
X-WR-CALDESC:Events for Town of Sharpsburg, Maryland
REFRESH-INTERVAL;VALUE=DURATION:PT1H
X-Robots-Tag:noindex
X-PUBLISHED-TTL:PT1H
BEGIN:VTIMEZONE
TZID:America/New_York
BEGIN:DAYLIGHT
TZOFFSETFROM:-0500
TZOFFSETTO:-0400
TZNAME:EDT
DTSTART:20240310T070000
END:DAYLIGHT
BEGIN:STANDARD
TZOFFSETFROM:-0400
TZOFFSETTO:-0500
TZNAME:EST
DTSTART:20241103T060000
END:STANDARD
BEGIN:DAYLIGHT
TZOFFSETFROM:-0500
TZOFFSETTO:-0400
TZNAME:EDT
DTSTART:20250309T070000
END:DAYLIGHT
BEGIN:STANDARD
TZOFFSETFROM:-0400
TZOFFSETTO:-0500
TZNAME:EST
DTSTART:20251102T060000
END:STANDARD
BEGIN:DAYLIGHT
TZOFFSETFROM:-0500
TZOFFSETTO:-0400
TZNAME:EDT
DTSTART:20260308T070000
END:DAYLIGHT
BEGIN:STANDARD
TZOFFSETFROM:-0400
TZOFFSETTO:-0500
TZNAME:EST
DTSTART:20261101T060000
END:STANDARD
BEGIN:DAYLIGHT
TZOFFSETFROM:-0500
TZOFFSETTO:-0400
TZNAME:EDT
DTSTART:20270314T070000
END:DAYLIGHT
BEGIN:STANDARD
TZOFFSETFROM:-0400
TZOFFSETTO:-0500
TZNAME:EST
DTSTART:20271107T060000
END:STANDARD
END:VTIMEZONE
BEGIN:VEVENT
DTSTART;TZID=America/New_York:20260523T110000
DTEND;TZID=America/New_York:20260523T160000
DTSTAMP:20260423T193958
CREATED:20260303T162027Z
LAST-MODIFIED:20260303T162108Z
UID:1797-1779534000-1779552000@sharpsburgmd.com
SUMMARY:Sharpsburg Memorial Day Parade
DESCRIPTION:The 159th Annual Sharpsburg Memorial Day Parade \nSaturday\, May 23rd \nCeremony at 11:00 AM in the Square \nParade at 2:00 PM – Starting at the Elementary School \nTheme: America’s 250th: Honoring the Sacrifices that birthed our nation
URL:https://sharpsburgmd.com/event/sharpsburg-memorial-day-parade/
LOCATION:Town Hall\, 106 E. Main Street\, Sharpsburg\, MD\, 21782\, United States
END:VEVENT
BEGIN:VEVENT
DTSTART;TZID=America/New_York:20260504T180000
DTEND;TZID=America/New_York:20260504T200000
DTSTAMP:20260423T193958
CREATED:20251209T154512Z
LAST-MODIFIED:20251209T154512Z
UID:1682-1777917600-1777924800@sharpsburgmd.com
SUMMARY:M&C MEETING
DESCRIPTION:
URL:https://sharpsburgmd.com/event/mc-meeting-11/
LOCATION:MD
END:VEVENT
BEGIN:VEVENT
DTSTART;TZID=America/New_York:20260425T070000
DTEND;TZID=America/New_York:20260425T100000
DTSTAMP:20260423T193958
CREATED:20260303T161340Z
LAST-MODIFIED:20260303T161340Z
UID:1794-1777100400-1777111200@sharpsburgmd.com
SUMMARY:Annual Town Fishing Rodeo
DESCRIPTION:ANNUAL SHARPSBURG FISHING RODEO \nSaturday\, April 25th \n7AM – 10 AM \nAges 1 – 15 \nPrizes for All \nFree Hot Dogs and Drinks \nEvent held at the town pond located at the end of E. High Street on Burnside Bridge Rd.
URL:https://sharpsburgmd.com/event/annual-town-fishing-rodeo/
LOCATION:Town Pond\, East High Street & Burnside Bridge Road\, Sharpsburg\, MD\, 21782\, United States
END:VEVENT
BEGIN:VEVENT
DTSTART;TZID=America/New_York:20260413T080000
DTEND;TZID=America/New_York:20260417T160000
DTSTAMP:20260423T193958
CREATED:20260303T160719Z
LAST-MODIFIED:20260303T160719Z
UID:1789-1776067200-1776441600@sharpsburgmd.com
SUMMARY:Spring Brush Collection
DESCRIPTION:Spring Brush Collection \nWeek of April 13-17 \nNothing larger than 6″ in diameter \nLoads no larger than the size of a small truck bed \nQuestions can be directed to Robbie Waters at 240.382.4561 \n  \n~collection for town residents only~
URL:https://sharpsburgmd.com/event/spring-brush-collection/
LOCATION:MD
END:VEVENT
BEGIN:VEVENT
DTSTART;TZID=America/New_York:20260406T180000
DTEND;TZID=America/New_York:20260406T200000
DTSTAMP:20260423T193958
CREATED:20251209T154420Z
LAST-MODIFIED:20260401T144519Z
UID:1680-1775498400-1775505600@sharpsburgmd.com
SUMMARY:M&C MEETING
DESCRIPTION:SHARPSBURG MAYOR AND COUNCIL \nREGULAR MEETING AGENDA \nApril 6\, 2026 \n6:00 PM \nREGULAR MEETING CALL TO ORDER AND PLEDGE \nAPPROVAL OF AGENDA \nGUESTS – Planning Commission Community Survey Presentation – Brianna Candelaria \nCITIZEN COMMENTS – (citizens comments are limited to 3 minutes per person) \nAPPROVAL OF MINUTES \nRegular Meeting Minutes – March 9\, 2026 \nPublic Hearing Minutes – March 9\, 2026 \nAPPROVAL OF FINANCIAL REPORT – March 2026 \nZONING ADMINISTATORS REPORT – Tim Lung \nMAYORS COMMENT(S) – Mayor Weaver \nCOUNCIL MEMBERS REPORTS \nCouncil Member McCullough \nCouncil Member Kudla \nVice Mayor Martz \nCouncil Member H. Waters \nCouncil Member R. Waters \n  \nCOMMUNITY PARTNERS \nCommunity Deputy – M. Deputy Watkins \nBattlefield Advisory Committee/Antietam Institute – Chris Vincent \nSharpsburgh Museum of History \nUNFINISHED BUSINESS \nNEW BUSINESS \nFY27 Community Deputy Agreement Renewal \nAmendment to the FY26 Municipal/Corporate Monthly Interest/Penalty Tax Rate \nSharpsburg Elementary School Destination Imagination Donation Request \nCORRESPONDENCE/ANNOUNCEMENTS \n\nSpring Brush Collection – April 13th-17th\nFishing Rodeo – April 25th (7-10AM)\n\nADJOURNMENT
URL:https://sharpsburgmd.com/event/mc-meeting-10/
LOCATION:MD
END:VEVENT
BEGIN:VEVENT
DTSTART;TZID=America/New_York:20260309T180000
DTEND;TZID=America/New_York:20260309T200000
DTSTAMP:20260423T193958
CREATED:20260302T182606Z
LAST-MODIFIED:20260302T182633Z
UID:1783-1773079200-1773086400@sharpsburgmd.com
SUMMARY:MC Public Hearing and Regular Meeting
DESCRIPTION:SHARPSBURG MAYOR AND COUNCIL \nPUBLIC HEARING AND REGULAR MEETING AGENDA \nMarch 9\, 2026 \n6:00 PM \n  \nPUBLIC HEARING – MDOT MD34 @ MD65 Speed Cushions – Speed Study Results \nPaul Nichol\, MDOT/SHA Asst Dist Engineer will present the results of the speed study conducted while the speed cushions were in place. After the presentation\, citizens will be offered 3 minutes each to comment on the matter. \nREGULAR MEETING CALL TO ORDER AND PLEDGE \nAPPROVAL OF AGENDA \nGUESTS/CITIZEN COMMENTS – (citizens comments are limited to 3 minutes per person) \nAPPROVAL OF MINUTES : Regular Meeting Minutes – February 2\, 2026 \nAPPROVAL OF FINANCIAL REPORT: February 2026 \nZONING ADMINISTATORS REPORT – Tim Lung \nMAYORS COMMENT(S) – Mayor Weaver \nCOUNCIL MEMBERS REPORTS \nCouncil Member Kudla \nVice Mayor Martz \nCouncil Member H. Waters \nCouncil Member R. Waters \nCouncil Member McCullough \nCOMMUNITY PARTNERS \nDeputy Watkins – Community Deputy \nChris Vincent – Park Advisory Board: Antietam Institute 2026 Fall Conference Request for Support \nSharpsburgh Museum of History \nUNFINISHED BUSINESS \nMD34 @ MD65 Speed Cushions Follow-up/Vote \nNEW BUSINESS \nFY27 Constant Yield Tax Rate Certification \nCORRESPONDENCE/ANNOUNCEMENTS \nHB 0239 – Land Use – Zoning – Limitations (Starter and Silver Homes Act of 2026) \nADJOURNMENT
URL:https://sharpsburgmd.com/event/mc-public-hearing-and-regular-meeting/
LOCATION:MD
END:VEVENT
BEGIN:VEVENT
DTSTART;TZID=America/New_York:20260302T000000
DTEND;TZID=America/New_York:20260302T000000
DTSTAMP:20260423T193958
CREATED:20260218T192850Z
LAST-MODIFIED:20260302T182504Z
UID:1758-1772409600-1772409600@sharpsburgmd.com
SUMMARY:M&C Public Hearing & Regular Meeting- POSTPONED
DESCRIPTION:Meeting POSTPONED due to impending weather until Monday\, March 9\, 2026 at 6PM
URL:https://sharpsburgmd.com/event/mc-meeting-8/
LOCATION:MD
END:VEVENT
BEGIN:VEVENT
DTSTART;TZID=America/New_York:20260202T180000
DTEND;TZID=America/New_York:20260202T200000
DTSTAMP:20260423T193958
CREATED:20260201T144354Z
LAST-MODIFIED:20260201T145547Z
UID:1730-1770055200-1770062400@sharpsburgmd.com
SUMMARY:Mayor and Council Meeting via ZOOM
DESCRIPTION:SHARPSBURG MAYOR AND COUNCIL \nMEETING AGENDA \nFebruary 2\, 2026 \n6:00 PM \nMEETING WILL BE CONDUCTED VIA ZOOM \nTown of Sharpsburg is inviting you to a scheduled Zoom meeting.\nJoin Zoom Meeting\nhttps://us02web.zoom.us/j/81395798608?pwd=XtskKCXaoJd181b1wtz5UVkoRNRhGK.1Meeting ID: 813 9579 8608\nPasscode: 638021— \nOne tap mobile\n+13017158592\,\,81395798608#\,\,\,\,*638021# US (Washington DC)\n+13126266799\,\,81395798608#\,\,\,\,*638021# US (Chicago) \nJoin instructions\nhttps://us02web.zoom.us/meetings/81395798608/invitations?signature=iYdPyhW2zroAwVIDyRH2eXPKwQXPhl_2VlpVJBeNBzY \n\n\nCALL TO ORDER AND PLEDGE \n APPROVAL OF AGENDA \nPUBLIC COMMENTS MAY BE EMAILED TO TOWNOFSHARPSBURG@COMCAST.NET \nAPPROVAL OF MINUTES \n Regular Meeting Minutes – December 1\, 2025 \nExecutive Minutes – December 1\, 2025 \nAPPROVAL OF FINANCIAL REPORT \nDecember 2025 and January 2026 \nZONING ADMINISTATORS REPORT – Tim Lung \nMAYORS COMMENT(S) – Mayor Weaver \n2025 in Review \nCOUNCIL MEMBERS REPORTS \nCouncil Member McCullough \nCouncil Member Kudla \nVice Mayor Martz \nCouncil Member H. Waters \nCouncil Member R. Waters \nCOMMUNITY PARTNERS \nOfficer Watkins – Resident Deputy \nChris Vincent – Battlefield Advisory Board \nUNFINISHED BUSINESS \nReview of Pending FY26 Projects       \nCIP Review \nNEW BUSINESS \n2026 Calendar of Events \nFY27 Fireworks Display Approval \nCORRESPONDENCE/ANNOUNCEMENTS \nADJOURNMENT
URL:https://sharpsburgmd.com/event/mayor-and-council-meeting-9/
LOCATION:MD
END:VEVENT
BEGIN:VEVENT
DTSTART;TZID=America/New_York:20260105T180000
DTEND;TZID=America/New_York:20260105T200000
DTSTAMP:20260423T193958
CREATED:20251209T154023Z
LAST-MODIFIED:20260105T172951Z
UID:1674-1767636000-1767643200@sharpsburgmd.com
SUMMARY:M&C Meeting - CANCELED
DESCRIPTION:  \n 
URL:https://sharpsburgmd.com/event/mc-meeting-7/
LOCATION:MD
END:VEVENT
BEGIN:VEVENT
DTSTART;TZID=America/New_York:20251205T180000
DTEND;TZID=America/New_York:20251205T200000
DTSTAMP:20260423T193958
CREATED:20250925T162247Z
LAST-MODIFIED:20251118T141522Z
UID:1559-1764957600-1764964800@sharpsburgmd.com
SUMMARY:Christmas In the Square
DESCRIPTION:The Town of Sharpsburg celebrates \nCHRISTMAS IN THE SQUARE \nFriday\, December 5th @ 6:00 P.M. \n\nLighting of the Town Tree\nSanta will arrive on the fire truck\nVisit and take photos with Santa  …..and the Grinch\nLive music\nCookies\nCrowning of Miss Sharpsburg 2026\n\nThe towns Christmas tree is proudly decorated by the students of Sharpsburg Elementary School \n 
URL:https://sharpsburgmd.com/event/christmas-tree-lighting-event/
LOCATION:MD
END:VEVENT
BEGIN:VEVENT
DTSTART;TZID=America/New_York:20251201T180000
DTEND;TZID=America/New_York:20251201T190000
DTSTAMP:20260423T193958
CREATED:20251120T175744Z
LAST-MODIFIED:20251125T170016Z
UID:1658-1764612000-1764615600@sharpsburgmd.com
SUMMARY:Mayor & Council Meeting
DESCRIPTION:SHARPSBURG MAYOR AND COUNCIL \nMEETING AGENDA \nDecember 1\, 2025 \n6:00 PM \nCALL TO ORDER AND PLEDGE \nAPPROVAL OF AGENDA \nPUBLIC COMMENTS \nAPPROVAL OF MINUTES \nRegular Meeting Minutes – November 3\, 2025 \nAmended Minutes – October 7\, 2024 \nAPPROVAL OF FINANCIAL REPORT \nNovember 2025 \nZONING ADMINISTATORS REPORT – Tim Lung \nMAYORS COMMENT(S) – Mayor Weaver \nCORRESPONDENCE \nCOUNCIL MEMBERS REPORTS \nCouncil Member R. Waters \nCouncil Member McCullough \nCouncil Member Kudla \nVice Mayor Martz \nCouncil Member H. Waters \nCOMMUNITY PARTNERS \nOfficer Watkins – Resident Deputy \nChris Vincent – Park Advisory Board \nMike Arant – Town Crier \nNEW BUSINESS \nCLOSED SESSION under Maryland Annotated Code General Provisions Article §3-305(b): 3) to consider the acquisition of real property for a public purpose and matters directly related to the acquisition \nRECONVENE IN OPEN SESSION \nADJOURNMENT
URL:https://sharpsburgmd.com/event/mayor-council-meeting-5/
LOCATION:MD
END:VEVENT
BEGIN:VEVENT
DTSTART;TZID=America/New_York:20251201T000000
DTEND;TZID=America/New_York:20251201T000000
DTSTAMP:20260423T193958
CREATED:20251014T143326Z
LAST-MODIFIED:20251120T175649Z
UID:1601-1764547200-1764547200@sharpsburgmd.com
SUMMARY:CHRISTMAS DOOR DECORATING CONTEST
DESCRIPTION:
URL:https://sharpsburgmd.com/event/christmas-door-decorating-contest/
LOCATION:MD
ATTACH;FMTTYPE=application/pdf:https://sharpsburgmd.com/wp-content/uploads/2025/10/Town-of-Sharpsburg-Door-Decorating-Flyer-1.pdf
END:VEVENT
BEGIN:VEVENT
DTSTART;TZID=America/New_York:20251103T180000
DTEND;TZID=America/New_York:20251103T200000
DTSTAMP:20260423T193958
CREATED:20250925T162024Z
LAST-MODIFIED:20250925T162024Z
UID:1557-1762192800-1762200000@sharpsburgmd.com
SUMMARY:M&C Meeting
DESCRIPTION:
URL:https://sharpsburgmd.com/event/mc-meeting-6/
LOCATION:MD
END:VEVENT
BEGIN:VEVENT
DTSTART;TZID=America/New_York:20251031T180000
DTEND;TZID=America/New_York:20251031T200000
DTSTAMP:20260423T193958
CREATED:20250922T121202Z
LAST-MODIFIED:20250922T121208Z
UID:1546-1761933600-1761940800@sharpsburgmd.com
SUMMARY:Trick or Treat
DESCRIPTION:
URL:https://sharpsburgmd.com/event/trick-or-treat-2/
LOCATION:MD
END:VEVENT
BEGIN:VEVENT
DTSTART;TZID=America/New_York:20251027T180000
DTEND;TZID=America/New_York:20251027T200000
DTSTAMP:20260423T193958
CREATED:20251023T175007Z
LAST-MODIFIED:20251023T175007Z
UID:1625-1761588000-1761595200@sharpsburgmd.com
SUMMARY:M&C Work Session
DESCRIPTION:SHARPSBURG MAYOR AND COUNCIL \nWORK SESSION AGENDA \nOCTOBER 27\, 2025 \n6:00 P.M. \nW.C. Historic Preservation Tax Credit MOU – Zoning Administrator \nHistoric Park and Signage Update – Mayor Weaver \nUnimproved Alley Way Usage – Mayor Weaver \nChapline Street Culvert Drainage Issue – Mayor Weaver \nCouncil Vacancy Status – Town Administrator \nHometown Hero Banner Program – Town Administrator-Councilmember R. Waters \n  \n  \nWork Sessions allow the elected body to review/discuss issues prior to being placed on the regular meeting agenda for formal action. Work Sessions are open to the public but generally do not open up to citizen comments at this meeting.
URL:https://sharpsburgmd.com/event/mc-work-session-4/
LOCATION:MD
END:VEVENT
BEGIN:VEVENT
DTSTART;TZID=America/New_York:20251013T080000
DTEND;TZID=America/New_York:20251017T160000
DTSTAMP:20260423T193958
CREATED:20250922T121108Z
LAST-MODIFIED:20250922T121108Z
UID:1542-1760342400-1760716800@sharpsburgmd.com
SUMMARY:FALL BRUSH COLLECTION
DESCRIPTION:
URL:https://sharpsburgmd.com/event/fall-brush-collection/
LOCATION:MD
ATTACH;FMTTYPE=application/pdf:https://sharpsburgmd.com/wp-content/uploads/2025/09/fALL-Brush-Collection.pdf
END:VEVENT
BEGIN:VEVENT
DTSTART;TZID=America/New_York:20251006T180000
DTEND;TZID=America/New_York:20251006T200000
DTSTAMP:20260423T193958
CREATED:20250925T161936Z
LAST-MODIFIED:20251002T171754Z
UID:1555-1759773600-1759780800@sharpsburgmd.com
SUMMARY:M&C Meeting
DESCRIPTION:SHARPSBURG MAYOR AND COUNCIL \nREGULAR MEETING  \nOCTOBER 6\, 2025 \n CALL TO ORDER AND PLEDGE \n APPROVAL OF AGENDA \n PUBLIC COMMENTS (comments are limited to 3 minutes) \n APPROVAL OF MINUTES \n Public Hearing Minutes – July 14\, 2025 \nRegular Meeting Minutes – July14\, 2025 \n Executive Minutes – September 3\, 2025 \nSpecial Session/Work Session Minutes – September 29\, 2025 \nAPPROVAL OF FINANCIAL REPORTS \nJuly/August/September 2025 Financial Reports \nZONING ADMINISTATORS REPORT – Tim Lung \nMAYORS COMMENTS – Mayor Weaver \nPreliminary Information Regarding the Future of the Sharpsburgh Museum of History \nW.C. Meter Vault Replace Project Update \nCORRESPONDENCE/UPDATES: \n W.C. 250th Celebration – Municipal Participation \nFY26 CPP Grant Submission \n Canal Towns Partnership Representative \nUPCOMING EVENTS \nFall Brush Collection – October 13-17 \nTrick or Treat – Friday\, October 31st from 6-8 P.M. \nMiss Sharpsburg 2026 Contest \nCOUNCIL MEMBERS REPORTS \nCouncilmember Kudla \nVice Mayor Martz \nCouncilmember H. Waters \nCouncilmember R. Waters \nCouncilmember McCullough \nCOMMUNITY PARTNERS \nDeputy Watkins – Resident Deputy \nBattlefield Advisory Board – Chris Vincent \nTown Crier – Mike Arant \nNEW BUSINESS \n2026 Snow Removal Bid Review/Award \nSharpsburg Community Survey \nADJOURNMENT
URL:https://sharpsburgmd.com/event/mc-meeting-5/
LOCATION:MD
END:VEVENT
BEGIN:VEVENT
DTSTART;TZID=America/New_York:20250929T180000
DTEND;TZID=America/New_York:20250929T200000
DTSTAMP:20260423T193958
CREATED:20250924T175652Z
LAST-MODIFIED:20250924T175652Z
UID:1551-1759168800-1759176000@sharpsburgmd.com
SUMMARY:M&C Special Session and Work Session
DESCRIPTION:
URL:https://sharpsburgmd.com/event/mc-special-session-and-work-session/
LOCATION:MD
ATTACH;FMTTYPE=application/pdf:https://sharpsburgmd.com/wp-content/uploads/2025/09/September29.2025-specialsession.worksession.agenda-1.pdf
END:VEVENT
BEGIN:VEVENT
DTSTART;TZID=America/New_York:20250920T100000
DTEND;TZID=America/New_York:20250920T170000
DTSTAMP:20260423T193958
CREATED:20250311T163458Z
LAST-MODIFIED:20250311T163458Z
UID:1319-1758362400-1758387600@sharpsburgmd.com
SUMMARY:Sharpsburg Day
DESCRIPTION:
URL:https://sharpsburgmd.com/event/sharpsburg-day-2/
LOCATION:MD
ATTACH;FMTTYPE=application/pdf:https://sharpsburgmd.com/wp-content/uploads/2025/03/Sharpsburg-Day-2025.pdf
END:VEVENT
BEGIN:VEVENT
DTSTART;TZID=America/New_York:20250908T180000
DTEND;TZID=America/New_York:20250908T200000
DTSTAMP:20260423T193958
CREATED:20250903T120334Z
LAST-MODIFIED:20250908T154734Z
UID:1500-1757354400-1757361600@sharpsburgmd.com
SUMMARY:M&C Meeting - CANCELED
DESCRIPTION:
URL:https://sharpsburgmd.com/event/mc-meeting-4/
LOCATION:MD
END:VEVENT
BEGIN:VEVENT
DTSTART;TZID=America/New_York:20250903T160000
DTEND;TZID=America/New_York:20250903T170000
DTSTAMP:20260423T193958
CREATED:20250902T131425Z
LAST-MODIFIED:20250902T131430Z
UID:1495-1756915200-1756918800@sharpsburgmd.com
SUMMARY:MC Special Meeting-Closed Session
DESCRIPTION:SHARPSBURG MAYOR AND COUNCILSPECIAL SESSION \nMEETING AGENDA \nSeptember 3\, 2025 \nCALL TO ORDER at 4:00 P.M. \nCLOSED SESSION \nUnder the General Provisions Article ” § 3-305(b)(1 ) – “personnel matters – to discuss confidential personnel matters regarding an appointee\, employee\, or official; and § 3-305(b)(7) – “legal advice” – to discuss counsel’s advice on certain personnel matters. \nRECONVENE IN OPEN SESSION \nADJOURNMENT \nWhile the public is welcome to attend the Special meeting for the opening and closing portions of the meeting\, the Closed Session is not open to the public.
URL:https://sharpsburgmd.com/event/mc-special-meeting-closed-session/
LOCATION:MD
END:VEVENT
BEGIN:VEVENT
DTSTART;TZID=America/New_York:20250809T100000
DTEND;TZID=America/New_York:20250809T160000
DTSTAMP:20260423T193958
CREATED:20250311T163647Z
LAST-MODIFIED:20250311T163647Z
UID:1323-1754733600-1754755200@sharpsburgmd.com
SUMMARY:Candy and the Civil War
DESCRIPTION:
URL:https://sharpsburgmd.com/event/candy-and-the-civil-war/
LOCATION:Sharpsburgh Museum of History\, 106 E. Main Street\, Sharpsburg\, MD\, 21782\, United States
ATTACH;FMTTYPE=application/pdf:https://sharpsburgmd.com/wp-content/uploads/2025/03/Candy-and-the-Civil-War.pdf
END:VEVENT
BEGIN:VEVENT
DTSTART;TZID=America/New_York:20250714T180000
DTEND;TZID=America/New_York:20250714T200000
DTSTAMP:20260423T193958
CREATED:20250626T133551Z
LAST-MODIFIED:20250626T133600Z
UID:1469-1752516000-1752523200@sharpsburgmd.com
SUMMARY:Public Hearing -Regular Meeting
DESCRIPTION:
URL:https://sharpsburgmd.com/event/public-hearing-regular-meeting/
LOCATION:MD
ATTACH;FMTTYPE=application/pdf:https://sharpsburgmd.com/wp-content/uploads/2025/06/July2025-Agenda.pdf
END:VEVENT
BEGIN:VEVENT
DTSTART;TZID=America/New_York:20250707T080000
DTEND;TZID=America/New_York:20250707T170000
DTSTAMP:20260423T193958
CREATED:20250626T133147Z
LAST-MODIFIED:20250626T133158Z
UID:1466-1751875200-1751907600@sharpsburgmd.com
SUMMARY:Town Hall Closed - July 4th Holiday
DESCRIPTION:
URL:https://sharpsburgmd.com/event/town-hall-closed-july-4th-holiday/
LOCATION:MD
END:VEVENT
BEGIN:VEVENT
DTSTART;TZID=America/New_York:20250602T180000
DTEND;TZID=America/New_York:20250602T200000
DTSTAMP:20260423T193958
CREATED:20250529T175425Z
LAST-MODIFIED:20250530T175513Z
UID:1416-1748887200-1748894400@sharpsburgmd.com
SUMMARY:M&C Meeting
DESCRIPTION:
URL:https://sharpsburgmd.com/event/mc-meeting-3/
LOCATION:MD
ATTACH;FMTTYPE=application/pdf:https://sharpsburgmd.com/wp-content/uploads/2025/05/June2025-Agenda-2.pdf
END:VEVENT
BEGIN:VEVENT
DTSTART;TZID=America/New_York:20250527T180000
DTEND;TZID=America/New_York:20250527T200000
DTSTAMP:20260423T193958
CREATED:20250520T155659Z
LAST-MODIFIED:20250520T161723Z
UID:1407-1748368800-1748376000@sharpsburgmd.com
SUMMARY:M&C Work Session
DESCRIPTION:
URL:https://sharpsburgmd.com/event/mc-work-session-3/
LOCATION:MD
ATTACH;FMTTYPE=application/pdf:https://sharpsburgmd.com/wp-content/uploads/2025/05/May2025-WS-Agenda.pdf
END:VEVENT
BEGIN:VEVENT
DTSTART;TZID=America/New_York:20250524T110000
DTEND;TZID=America/New_York:20250524T160000
DTSTAMP:20260423T193958
CREATED:20250311T164438Z
LAST-MODIFIED:20250311T164438Z
UID:1327-1748084400-1748102400@sharpsburgmd.com
SUMMARY:Memorial Day Ceremony and Parade
DESCRIPTION:
URL:https://sharpsburgmd.com/event/memorial-day-ceremony-and-parade/
LOCATION:MD
ATTACH;FMTTYPE=application/pdf:https://sharpsburgmd.com/wp-content/uploads/2025/03/Memorial-Day-Parade-2025.pdf
END:VEVENT
BEGIN:VEVENT
DTSTART;TZID=America/New_York:20250514T080000
DTEND;TZID=America/New_York:20250514T160000
DTSTAMP:20260423T193958
CREATED:20250311T163305Z
LAST-MODIFIED:20250311T163305Z
UID:1315-1747209600-1747238400@sharpsburgmd.com
SUMMARY:Curbside Bulk Clean Up Event
DESCRIPTION:
URL:https://sharpsburgmd.com/event/curbside-bulk-clean-up-event/
LOCATION:MD
ATTACH;FMTTYPE=application/pdf:https://sharpsburgmd.com/wp-content/uploads/2025/03/Spring-Curbside-Bulk-Collection-1.pdf
END:VEVENT
BEGIN:VEVENT
DTSTART;TZID=America/New_York:20250505T180000
DTEND;TZID=America/New_York:20250505T200000
DTSTAMP:20260423T193958
CREATED:20250501T160203Z
LAST-MODIFIED:20250501T160215Z
UID:1394-1746468000-1746475200@sharpsburgmd.com
SUMMARY:Mayor and Council Meeting - Canceled
DESCRIPTION:
URL:https://sharpsburgmd.com/event/mayor-and-council-meeting-canceled/
LOCATION:MD
END:VEVENT
BEGIN:VEVENT
DTSTART;TZID=America/New_York:20250428T180000
DTEND;TZID=America/New_York:20250428T200000
DTSTAMP:20260423T193958
CREATED:20250424T125204Z
LAST-MODIFIED:20250424T125204Z
UID:1390-1745863200-1745870400@sharpsburgmd.com
SUMMARY:M&C Work Session
DESCRIPTION:AGENDA \n\n FY25 Pothole Repair List – Mayor Weaver\nTown Hall/Library/Museum Parking – M. Deputy Watkins\nFY26 1st Draft Budget Review – Town Administrator Valentine-Smith
URL:https://sharpsburgmd.com/event/mc-work-session-2/
LOCATION:MD
END:VEVENT
END:VCALENDAR