BEGIN:VCALENDAR
VERSION:2.0
PRODID:-//Town of Sharpsburg, Maryland - ECPv6.15.20//NONSGML v1.0//EN
CALSCALE:GREGORIAN
METHOD:PUBLISH
X-WR-CALNAME:Town of Sharpsburg, Maryland
X-ORIGINAL-URL:https://sharpsburgmd.com
X-WR-CALDESC:Events for Town of Sharpsburg, Maryland
REFRESH-INTERVAL;VALUE=DURATION:PT1H
X-Robots-Tag:noindex
X-PUBLISHED-TTL:PT1H
BEGIN:VTIMEZONE
TZID:America/New_York
BEGIN:DAYLIGHT
TZOFFSETFROM:-0500
TZOFFSETTO:-0400
TZNAME:EDT
DTSTART:20250309T070000
END:DAYLIGHT
BEGIN:STANDARD
TZOFFSETFROM:-0400
TZOFFSETTO:-0500
TZNAME:EST
DTSTART:20251102T060000
END:STANDARD
BEGIN:DAYLIGHT
TZOFFSETFROM:-0500
TZOFFSETTO:-0400
TZNAME:EDT
DTSTART:20260308T070000
END:DAYLIGHT
BEGIN:STANDARD
TZOFFSETFROM:-0400
TZOFFSETTO:-0500
TZNAME:EST
DTSTART:20261101T060000
END:STANDARD
BEGIN:DAYLIGHT
TZOFFSETFROM:-0500
TZOFFSETTO:-0400
TZNAME:EDT
DTSTART:20270314T070000
END:DAYLIGHT
BEGIN:STANDARD
TZOFFSETFROM:-0400
TZOFFSETTO:-0500
TZNAME:EST
DTSTART:20271107T060000
END:STANDARD
END:VTIMEZONE
BEGIN:VEVENT
DTSTART;TZID=America/New_York:20260504T180000
DTEND;TZID=America/New_York:20260504T200000
DTSTAMP:20260423T145433
CREATED:20251209T154512Z
LAST-MODIFIED:20251209T154512Z
UID:1682-1777917600-1777924800@sharpsburgmd.com
SUMMARY:M&C MEETING
DESCRIPTION:
URL:https://sharpsburgmd.com/event/mc-meeting-11/
LOCATION:MD
END:VEVENT
BEGIN:VEVENT
DTSTART;TZID=America/New_York:20260523T110000
DTEND;TZID=America/New_York:20260523T160000
DTSTAMP:20260423T145433
CREATED:20260303T162027Z
LAST-MODIFIED:20260303T162108Z
UID:1797-1779534000-1779552000@sharpsburgmd.com
SUMMARY:Sharpsburg Memorial Day Parade
DESCRIPTION:The 159th Annual Sharpsburg Memorial Day Parade \nSaturday\, May 23rd \nCeremony at 11:00 AM in the Square \nParade at 2:00 PM – Starting at the Elementary School \nTheme: America’s 250th: Honoring the Sacrifices that birthed our nation
URL:https://sharpsburgmd.com/event/sharpsburg-memorial-day-parade/
LOCATION:Town Hall\, 106 E. Main Street\, Sharpsburg\, MD\, 21782\, United States
END:VEVENT
BEGIN:VEVENT
DTSTART;TZID=America/New_York:20260601T180000
DTEND;TZID=America/New_York:20260601T200000
DTSTAMP:20260423T145433
CREATED:20251209T154551Z
LAST-MODIFIED:20251209T154551Z
UID:1684-1780336800-1780344000@sharpsburgmd.com
SUMMARY:M&C MEETING
DESCRIPTION:
URL:https://sharpsburgmd.com/event/mc-meeting-12/
LOCATION:MD
END:VEVENT
BEGIN:VEVENT
DTSTART;TZID=America/New_York:20260706T180000
DTEND;TZID=America/New_York:20260706T200000
DTSTAMP:20260423T145433
CREATED:20251209T154634Z
LAST-MODIFIED:20251209T154634Z
UID:1686-1783360800-1783368000@sharpsburgmd.com
SUMMARY:M&C MEETING
DESCRIPTION:
URL:https://sharpsburgmd.com/event/mc-meeting-13/
LOCATION:MD
END:VEVENT
BEGIN:VEVENT
DTSTART;TZID=America/New_York:20260803T180000
DTEND;TZID=America/New_York:20260803T200000
DTSTAMP:20260423T145433
CREATED:20251209T154710Z
LAST-MODIFIED:20251209T154710Z
UID:1688-1785780000-1785787200@sharpsburgmd.com
SUMMARY:M&C MEETING
DESCRIPTION:
URL:https://sharpsburgmd.com/event/mc-meeting-14/
LOCATION:MD
END:VEVENT
BEGIN:VEVENT
DTSTART;TZID=America/New_York:20260914T180000
DTEND;TZID=America/New_York:20260914T200000
DTSTAMP:20260423T145433
CREATED:20251209T154757Z
LAST-MODIFIED:20260303T164947Z
UID:1690-1789408800-1789416000@sharpsburgmd.com
SUMMARY:M&C MEETING
DESCRIPTION:
URL:https://sharpsburgmd.com/event/mc-meeting-15/
LOCATION:MD
END:VEVENT
BEGIN:VEVENT
DTSTART;TZID=America/New_York:20260919T090000
DTEND;TZID=America/New_York:20260919T170000
DTSTAMP:20260423T145433
CREATED:20260303T164527Z
LAST-MODIFIED:20260303T164527Z
UID:1799-1789808400-1789837200@sharpsburgmd.com
SUMMARY:Sharpsburg Day
DESCRIPTION:Sharpsburg Day \nSaturday\, September 19th \n9:00 AM – 5:00 PM \nfor more information; \ncontact Councilmember Heather Waters 240.469.8660 \nH.Waters@sharpsburgMD.com \n 
URL:https://sharpsburgmd.com/event/sharpsburg-day-3/
LOCATION:Town Hall\, 106 E. Main Street\, Sharpsburg\, MD\, 21782\, United States
END:VEVENT
BEGIN:VEVENT
DTSTART;TZID=America/New_York:20261005T180000
DTEND;TZID=America/New_York:20261005T200000
DTSTAMP:20260423T145433
CREATED:20251209T154835Z
LAST-MODIFIED:20251209T154835Z
UID:1692-1791223200-1791230400@sharpsburgmd.com
SUMMARY:M&C MEETING
DESCRIPTION:
URL:https://sharpsburgmd.com/event/mc-meeting-16/
LOCATION:MD
END:VEVENT
BEGIN:VEVENT
DTSTART;TZID=America/New_York:20261102T180000
DTEND;TZID=America/New_York:20261102T200000
DTSTAMP:20260423T145433
CREATED:20251209T154911Z
LAST-MODIFIED:20251209T154911Z
UID:1694-1793642400-1793649600@sharpsburgmd.com
SUMMARY:M&C MEETING
DESCRIPTION:
URL:https://sharpsburgmd.com/event/mc-meeting-17/
LOCATION:MD
END:VEVENT
BEGIN:VEVENT
DTSTART;TZID=America/New_York:20261207T180000
DTEND;TZID=America/New_York:20261207T200000
DTSTAMP:20260423T145433
CREATED:20251209T155234Z
LAST-MODIFIED:20251209T155234Z
UID:1696-1796666400-1796673600@sharpsburgmd.com
SUMMARY:M&C MEETING
DESCRIPTION:
URL:https://sharpsburgmd.com/event/mc-meeting-18/
LOCATION:MD
END:VEVENT
END:VCALENDAR