BEGIN:VCALENDAR
VERSION:2.0
PRODID:-//Town of Sharpsburg, Maryland - ECPv6.15.20//NONSGML v1.0//EN
CALSCALE:GREGORIAN
METHOD:PUBLISH
X-WR-CALNAME:Town of Sharpsburg, Maryland
X-ORIGINAL-URL:https://sharpsburgmd.com
X-WR-CALDESC:Events for Town of Sharpsburg, Maryland
REFRESH-INTERVAL;VALUE=DURATION:PT1H
X-Robots-Tag:noindex
X-PUBLISHED-TTL:PT1H
BEGIN:VTIMEZONE
TZID:America/New_York
BEGIN:DAYLIGHT
TZOFFSETFROM:-0500
TZOFFSETTO:-0400
TZNAME:EDT
DTSTART:20230312T070000
END:DAYLIGHT
BEGIN:STANDARD
TZOFFSETFROM:-0400
TZOFFSETTO:-0500
TZNAME:EST
DTSTART:20231105T060000
END:STANDARD
BEGIN:DAYLIGHT
TZOFFSETFROM:-0500
TZOFFSETTO:-0400
TZNAME:EDT
DTSTART:20240310T070000
END:DAYLIGHT
BEGIN:STANDARD
TZOFFSETFROM:-0400
TZOFFSETTO:-0500
TZNAME:EST
DTSTART:20241103T060000
END:STANDARD
BEGIN:DAYLIGHT
TZOFFSETFROM:-0500
TZOFFSETTO:-0400
TZNAME:EDT
DTSTART:20250309T070000
END:DAYLIGHT
BEGIN:STANDARD
TZOFFSETFROM:-0400
TZOFFSETTO:-0500
TZNAME:EST
DTSTART:20251102T060000
END:STANDARD
BEGIN:DAYLIGHT
TZOFFSETFROM:-0500
TZOFFSETTO:-0400
TZNAME:EDT
DTSTART:20260308T070000
END:DAYLIGHT
BEGIN:STANDARD
TZOFFSETFROM:-0400
TZOFFSETTO:-0500
TZNAME:EST
DTSTART:20261101T060000
END:STANDARD
END:VTIMEZONE
BEGIN:VEVENT
DTSTART;TZID=America/New_York:20250524T110000
DTEND;TZID=America/New_York:20250524T160000
DTSTAMP:20260423T170011
CREATED:20250311T164438Z
LAST-MODIFIED:20250311T164438Z
UID:1327-1748084400-1748102400@sharpsburgmd.com
SUMMARY:Memorial Day Ceremony and Parade
DESCRIPTION:
URL:https://sharpsburgmd.com/event/memorial-day-ceremony-and-parade/
ATTACH;FMTTYPE=application/pdf:https://sharpsburgmd.com/wp-content/uploads/2025/03/Memorial-Day-Parade-2025.pdf
END:VEVENT
BEGIN:VEVENT
DTSTART;TZID=America/New_York:20250514T080000
DTEND;TZID=America/New_York:20250514T160000
DTSTAMP:20260423T170011
CREATED:20250311T163305Z
LAST-MODIFIED:20250311T163305Z
UID:1315-1747209600-1747238400@sharpsburgmd.com
SUMMARY:Curbside Bulk Clean Up Event
DESCRIPTION:
URL:https://sharpsburgmd.com/event/curbside-bulk-clean-up-event/
ATTACH;FMTTYPE=application/pdf:https://sharpsburgmd.com/wp-content/uploads/2025/03/Spring-Curbside-Bulk-Collection-1.pdf
END:VEVENT
BEGIN:VEVENT
DTSTART;TZID=America/New_York:20250505T180000
DTEND;TZID=America/New_York:20250505T200000
DTSTAMP:20260423T170011
CREATED:20250501T160203Z
LAST-MODIFIED:20250501T160215Z
UID:1394-1746468000-1746475200@sharpsburgmd.com
SUMMARY:Mayor and Council Meeting - Canceled
DESCRIPTION:
URL:https://sharpsburgmd.com/event/mayor-and-council-meeting-canceled/
END:VEVENT
BEGIN:VEVENT
DTSTART;TZID=America/New_York:20250428T180000
DTEND;TZID=America/New_York:20250428T200000
DTSTAMP:20260423T170011
CREATED:20250424T125204Z
LAST-MODIFIED:20250424T125204Z
UID:1390-1745863200-1745870400@sharpsburgmd.com
SUMMARY:M&C Work Session
DESCRIPTION:AGENDA \n\n FY25 Pothole Repair List – Mayor Weaver\nTown Hall/Library/Museum Parking – M. Deputy Watkins\nFY26 1st Draft Budget Review – Town Administrator Valentine-Smith
URL:https://sharpsburgmd.com/event/mc-work-session-2/
END:VEVENT
BEGIN:VEVENT
DTSTART;TZID=America/New_York:20250426T100000
DTEND;TZID=America/New_York:20250426T160000
DTSTAMP:20260423T170011
CREATED:20250311T162832Z
LAST-MODIFIED:20250311T162832Z
UID:1308-1745661600-1745683200@sharpsburgmd.com
SUMMARY:The Women of Sharpsburg
DESCRIPTION:
URL:https://sharpsburgmd.com/event/the-women-of-sharpsburg/
LOCATION:Sharpsburgh Museum of History\, 106 E. Main Street\, Sharpsburg\, MD\, 21782\, United States
ATTACH;FMTTYPE=application/pdf:https://sharpsburgmd.com/wp-content/uploads/2025/03/The-Women-of-Sharpsburg.pdf
END:VEVENT
BEGIN:VEVENT
DTSTART;TZID=America/New_York:20250426T070000
DTEND;TZID=America/New_York:20250426T100000
DTSTAMP:20260423T170011
CREATED:20250313T175128Z
LAST-MODIFIED:20250313T175133Z
UID:1332-1745650800-1745661600@sharpsburgmd.com
SUMMARY:Annual Fishing Derby
DESCRIPTION:
URL:https://sharpsburgmd.com/event/annual-fishing-derby/
LOCATION:Town Pond\, East High Street & Burnside Bridge Road\, Sharpsburg\, MD\, 21782\, United States
ATTACH;FMTTYPE=application/pdf:https://sharpsburgmd.com/wp-content/uploads/2025/03/Fishing-Rodeo-Flyer.pdf
END:VEVENT
BEGIN:VEVENT
DTSTART;TZID=America/New_York:20250414T080000
DTEND;TZID=America/New_York:20250418T170000
DTSTAMP:20260423T170011
CREATED:20250311T162609Z
LAST-MODIFIED:20250311T162609Z
UID:1303-1744617600-1744995600@sharpsburgmd.com
SUMMARY:Spring Brush Pick-Up
DESCRIPTION:
URL:https://sharpsburgmd.com/event/spring-brush-pick-up/
ATTACH;FMTTYPE=application/pdf:https://sharpsburgmd.com/wp-content/uploads/2025/03/Spring-Brush-Collection.pdf
END:VEVENT
BEGIN:VEVENT
DTSTART;TZID=America/New_York:20250407T180000
DTEND;TZID=America/New_York:20250407T200000
DTSTAMP:20260423T170011
CREATED:20250403T175932Z
LAST-MODIFIED:20250403T175937Z
UID:1376-1744048800-1744056000@sharpsburgmd.com
SUMMARY:M&C Public Hearing and Meeting
DESCRIPTION:
URL:https://sharpsburgmd.com/event/mc-public-hearing-and-meeting/
ATTACH;FMTTYPE=application/pdf:https://sharpsburgmd.com/wp-content/uploads/2025/04/April2025-Agenda.pdf
END:VEVENT
BEGIN:VEVENT
DTSTART;TZID=America/New_York:20250331T170000
DTEND;TZID=America/New_York:20250331T200000
DTSTAMP:20260423T170011
CREATED:20250328T144835Z
LAST-MODIFIED:20250328T144843Z
UID:1357-1743440400-1743451200@sharpsburgmd.com
SUMMARY:M&C Work Session
DESCRIPTION:
URL:https://sharpsburgmd.com/event/mc-work-session/
ATTACH;FMTTYPE=application/pdf:https://sharpsburgmd.com/wp-content/uploads/2025/03/March2025-WS-Agenda-1.pdf
END:VEVENT
BEGIN:VEVENT
DTSTART;TZID=America/New_York:20250315T100000
DTEND;TZID=America/New_York:20250315T140000
DTSTAMP:20260423T170011
CREATED:20250311T162200Z
LAST-MODIFIED:20250311T162200Z
UID:1298-1742032800-1742047200@sharpsburgmd.com
SUMMARY:4TH Annual Metal Detecting Exhibit
DESCRIPTION:
URL:https://sharpsburgmd.com/event/4th-annual-metal-detecting-exhibit/
LOCATION:St. Paul’s Episcopal Church\, 209 W Main St\, Sharpsburg\, MD\, 21782\, United States
ATTACH;FMTTYPE=application/pdf:https://sharpsburgmd.com/wp-content/uploads/2025/03/Metal-Detecting-Exhibit.pdf
END:VEVENT
BEGIN:VEVENT
DTSTART;TZID=America/New_York:20250303T180000
DTEND;TZID=America/New_York:20250303T200000
DTSTAMP:20260423T170011
CREATED:20250227T193331Z
LAST-MODIFIED:20250227T193347Z
UID:1247-1741024800-1741032000@sharpsburgmd.com
SUMMARY:M&C Meeting
DESCRIPTION:
URL:https://sharpsburgmd.com/event/mc-meeting-2/
ATTACH;FMTTYPE=application/pdf:https://sharpsburgmd.com/wp-content/uploads/2025/02/March2025-Agenda.pdf
END:VEVENT
BEGIN:VEVENT
DTSTART;TZID=America/New_York:20250203T180000
DTEND;TZID=America/New_York:20250203T200000
DTSTAMP:20260423T170011
CREATED:20250124T151546Z
LAST-MODIFIED:20250130T175215Z
UID:1227-1738605600-1738612800@sharpsburgmd.com
SUMMARY:M&C Meeting
DESCRIPTION:
URL:https://sharpsburgmd.com/event/mc-meeting/
ATTACH;FMTTYPE=application/pdf:https://sharpsburgmd.com/wp-content/uploads/2025/01/Feb2025-Agenda-1.pdf
END:VEVENT
BEGIN:VEVENT
DTSTART;TZID=America/New_York:20250127T180000
DTEND;TZID=America/New_York:20250127T200000
DTSTAMP:20260423T170011
CREATED:20250124T151425Z
LAST-MODIFIED:20250124T151434Z
UID:1224-1738000800-1738008000@sharpsburgmd.com
SUMMARY:M&C Organizational Meeting
DESCRIPTION:This meeting will be a discussion and orientation for the new and current elected officials establishing goals and responsibilities moving into 2025.\n\n\n 
URL:https://sharpsburgmd.com/event/mc-organizational-meeting/
END:VEVENT
BEGIN:VEVENT
DTSTART;TZID=America/New_York:20241210T180000
DTEND;TZID=America/New_York:20241210T190000
DTSTAMP:20260423T170011
CREATED:20241022T175524Z
LAST-MODIFIED:20241022T175524Z
UID:1180-1733853600-1733857200@sharpsburgmd.com
SUMMARY:County Commissioners Meeting
DESCRIPTION:
URL:https://sharpsburgmd.com/event/county-commissioners-meeting/
END:VEVENT
BEGIN:VEVENT
DTSTART;TZID=America/New_York:20241206T180000
DTEND;TZID=America/New_York:20241206T200000
DTSTAMP:20260423T170011
CREATED:20241114T184622Z
LAST-MODIFIED:20241204T150223Z
UID:1208-1733508000-1733515200@sharpsburgmd.com
SUMMARY:Town Christmas Tree Lighting Event-POSTPONED TO DEC.13
DESCRIPTION:Annual Town Christmas Tree Lighting Event-POSTPONED DUE TO WEATHER \nFriday\, December 13th at 6PM in front of Town Hall \n\nSanta\nThe Grinch\nCindy Lou Who\nLive Music\nCookies\nCrowning of Miss Sharpsburg 2025\n\nTree decorated by the Sharpsburg Elementary students
URL:https://sharpsburgmd.com/event/town-christmas-tree-lighting-event/
END:VEVENT
BEGIN:VEVENT
DTSTART;TZID=America/New_York:20241202T180000
DTEND;TZID=America/New_York:20241202T200000
DTSTAMP:20260423T170011
CREATED:20241022T174704Z
LAST-MODIFIED:20241120T153045Z
UID:1178-1733162400-1733169600@sharpsburgmd.com
SUMMARY:Mayor and Council Meeting - Canceled
DESCRIPTION:
URL:https://sharpsburgmd.com/event/mayor-and-council-meeting-8/
END:VEVENT
BEGIN:VEVENT
DTSTART;TZID=America/New_York:20241119T090000
DTEND;TZID=America/New_York:20241119T190000
DTSTAMP:20260423T170011
CREATED:20241022T172336Z
LAST-MODIFIED:20241022T173816Z
UID:1171-1732006800-1732042800@sharpsburgmd.com
SUMMARY:Town Election
DESCRIPTION:
URL:https://sharpsburgmd.com/event/mayor-and-council-meeting-6/
END:VEVENT
BEGIN:VEVENT
DTSTART;TZID=America/New_York:20241111T110000
DTEND;TZID=America/New_York:20241111T123000
DTSTAMP:20260423T170011
CREATED:20241105T192128Z
LAST-MODIFIED:20241105T192134Z
UID:1195-1731322800-1731328200@sharpsburgmd.com
SUMMARY:Veterans Day Ceremony 11 AM
DESCRIPTION:Veterans Day Ceremony\, Monday\, November 11th @ 11AM in the Town Square \n\nAntietam Battlefield Park Ranger and Air Force Veteran Keith Snyder\nAmerican Legion Clopper Michael Post 10 Honor Guard\nBoonsboro Senior High School Chorus\nSaxophonist Mike Lushbaugh\n\nVeterans will be given small token of appreciation \nSponsored by the Antietam Unit 236 American Legion Auxiliary
URL:https://sharpsburgmd.com/event/veterans-day-ceremony-11-am/
END:VEVENT
BEGIN:VEVENT
DTSTART;TZID=America/New_York:20241104T180000
DTEND;TZID=America/New_York:20241104T200000
DTSTAMP:20260423T170011
CREATED:20241022T174350Z
LAST-MODIFIED:20241101T165847Z
UID:743-1730743200-1730750400@sharpsburgmd.com
SUMMARY:Mayor and Council Meeting
DESCRIPTION:
URL:https://sharpsburgmd.com/event/mayor-and-council-meeting-7/
ATTACH;FMTTYPE=application/pdf:https://sharpsburgmd.com/wp-content/uploads/2024/10/MC-Nov-2024Council-Agenda.pdf
END:VEVENT
BEGIN:VEVENT
DTSTART;TZID=America/New_York:20241031T180000
DTEND;TZID=America/New_York:20241031T200000
DTSTAMP:20260423T170011
CREATED:20240910T131129Z
LAST-MODIFIED:20240917T141046Z
UID:1130-1730397600-1730404800@sharpsburgmd.com
SUMMARY:Trick or Treat
DESCRIPTION:
URL:https://sharpsburgmd.com/event/trick-or-treat/
END:VEVENT
BEGIN:VEVENT
DTSTART;TZID=America/New_York:20241014T080000
DTEND;TZID=America/New_York:20241018T170000
DTSTAMP:20260423T170011
CREATED:20240917T133507Z
LAST-MODIFIED:20240930T180409Z
UID:1142-1728892800-1729270800@sharpsburgmd.com
SUMMARY:Fall Brush Pick-Up
DESCRIPTION:The Town will be conducting the Fall brush pick up the week of October 14th \n\nNothing larger than 6” in diameter\nLoads no larger than the size of a small truck bed\n\nIf a resident removes a large tree or hires a contractor to trim or remove trees and/or shrubbery\, it is the responsibility of the resident to pay the contractors to haul the material away.  \nIf you have questions\, please contact Robbie Waters at 240.382.4561
URL:https://sharpsburgmd.com/event/fall-brush-pick-up/
END:VEVENT
BEGIN:VEVENT
DTSTART;TZID=America/New_York:20241005T100000
DTEND;TZID=America/New_York:20241005T170000
DTSTAMP:20260423T170011
CREATED:20240930T181608Z
LAST-MODIFIED:20240930T181835Z
UID:1159-1728122400-1728147600@sharpsburgmd.com
SUMMARY:Sharpsburg Day
DESCRIPTION:
URL:https://sharpsburgmd.com/event/sharpsburg-day/
ATTACH;FMTTYPE=application/pdf:https://sharpsburgmd.com/wp-content/uploads/2024/09/BP-50C31_20240930_140800-1.pdf
END:VEVENT
BEGIN:VEVENT
DTSTART;TZID=America/New_York:20240924T180000
DTEND;TZID=America/New_York:20240924T190000
DTSTAMP:20260423T170011
CREATED:20240923T121015Z
LAST-MODIFIED:20240923T121015Z
UID:1151-1727200800-1727204400@sharpsburgmd.com
SUMMARY:County Commissioners Meering
DESCRIPTION:
URL:https://sharpsburgmd.com/event/county-commissioners-meering/
END:VEVENT
BEGIN:VEVENT
DTSTART;TZID=America/New_York:20240909T180000
DTEND;TZID=America/New_York:20240909T200000
DTSTAMP:20260423T170011
CREATED:20240829T165441Z
LAST-MODIFIED:20240905T162939Z
UID:1111-1725904800-1725912000@sharpsburgmd.com
SUMMARY:Mayor and Council Public Hearing/Meeting
DESCRIPTION:
URL:https://sharpsburgmd.com/event/mayor-and-council-meeting-5/
ATTACH;FMTTYPE=application/pdf:https://sharpsburgmd.com/wp-content/uploads/2024/08/September2024Council-Agenda.pdf
END:VEVENT
BEGIN:VEVENT
DTSTART;VALUE=DATE:20240902
DTEND;VALUE=DATE:20240903
DTSTAMP:20260423T170011
CREATED:20240829T165530Z
LAST-MODIFIED:20240829T165534Z
UID:1113-1725235200-1725321599@sharpsburgmd.com
SUMMARY:Labor Day - Office Closed
DESCRIPTION:
URL:https://sharpsburgmd.com/event/labor-day-office-closed/
END:VEVENT
BEGIN:VEVENT
DTSTART;TZID=America/New_York:20240805T180000
DTEND;TZID=America/New_York:20240805T203000
DTSTAMP:20260423T170011
CREATED:20240702T151309Z
LAST-MODIFIED:20240702T151309Z
UID:1079-1722880800-1722889800@sharpsburgmd.com
SUMMARY:Mayor and Council Meeting
DESCRIPTION:
URL:https://sharpsburgmd.com/event/mayor-and-council-meeting-3/
END:VEVENT
BEGIN:VEVENT
DTSTART;TZID=America/New_York:20240805T180000
DTEND;TZID=America/New_York:20240805T200000
DTSTAMP:20260423T170011
CREATED:20240801T151035Z
LAST-MODIFIED:20240801T151035Z
UID:1093-1722880800-1722888000@sharpsburgmd.com
SUMMARY:Mayor and Council Meeting
DESCRIPTION:
URL:https://sharpsburgmd.com/event/mayor-and-council-meeting-4/
ATTACH;FMTTYPE=application/pdf:https://sharpsburgmd.com/wp-content/uploads/2024/08/August2024Council-Agenda-1.pdf
END:VEVENT
BEGIN:VEVENT
DTSTART;VALUE=DATE:20240704
DTEND;VALUE=DATE:20240705
DTSTAMP:20260423T170011
CREATED:20240702T151033Z
LAST-MODIFIED:20240702T151142Z
UID:1077-1720051200-1720137599@sharpsburgmd.com
SUMMARY:Independence Day - Town Office Closed
DESCRIPTION:
URL:https://sharpsburgmd.com/event/independence-day-town-office-closed/
END:VEVENT
BEGIN:VEVENT
DTSTART;TZID=America/New_York:20240701T180000
DTEND;TZID=America/New_York:20240701T200000
DTSTAMP:20260423T170011
CREATED:20240626T171411Z
LAST-MODIFIED:20240627T113831Z
UID:1071-1719856800-1719864000@sharpsburgmd.com
SUMMARY:Mayor and Council Meeting Canceled
DESCRIPTION:
URL:https://sharpsburgmd.com/event/mayor-and-council-meeting-2/
LOCATION:Town Hall\, 106 E. Main Street\, Sharpsburg\, MD\, 21782\, United States
END:VEVENT
BEGIN:VEVENT
DTSTART;TZID=America/New_York:20240603T180000
DTEND;TZID=America/New_York:20240603T183000
DTSTAMP:20260423T170011
CREATED:20240523T181149Z
LAST-MODIFIED:20240523T181149Z
UID:1048-1717437600-1717439400@sharpsburgmd.com
SUMMARY:FY25 Budget Public Hearing
DESCRIPTION:The Mayor and Council will conduct a Public Hearing on Monday\, June 3\, 2024 at 6:00 PM prior to the regular monthly meeting to receive public input on the proposed general budget for FY25. \nThe proposed FY25 general budget will be placed on the regular meeting agenda of June 3\, 2024 for approval. If passed\, the FY25 budget shall become effective on July 1\, 2024.
URL:https://sharpsburgmd.com/event/fy25-budget-public-hearing/
LOCATION:Town Hall\, 106 E. Main Street\, Sharpsburg\, MD\, 21782\, United States
END:VEVENT
END:VCALENDAR