BEGIN:VCALENDAR
VERSION:2.0
PRODID:-//Town of Sharpsburg, Maryland - ECPv6.15.20//NONSGML v1.0//EN
CALSCALE:GREGORIAN
METHOD:PUBLISH
X-WR-CALNAME:Town of Sharpsburg, Maryland
X-ORIGINAL-URL:https://sharpsburgmd.com
X-WR-CALDESC:Events for Town of Sharpsburg, Maryland
REFRESH-INTERVAL;VALUE=DURATION:PT1H
X-Robots-Tag:noindex
X-PUBLISHED-TTL:PT1H
BEGIN:VTIMEZONE
TZID:America/New_York
BEGIN:DAYLIGHT
TZOFFSETFROM:-0500
TZOFFSETTO:-0400
TZNAME:EDT
DTSTART:20210314T070000
END:DAYLIGHT
BEGIN:STANDARD
TZOFFSETFROM:-0400
TZOFFSETTO:-0500
TZNAME:EST
DTSTART:20211107T060000
END:STANDARD
BEGIN:DAYLIGHT
TZOFFSETFROM:-0500
TZOFFSETTO:-0400
TZNAME:EDT
DTSTART:20220313T070000
END:DAYLIGHT
BEGIN:STANDARD
TZOFFSETFROM:-0400
TZOFFSETTO:-0500
TZNAME:EST
DTSTART:20221106T060000
END:STANDARD
BEGIN:DAYLIGHT
TZOFFSETFROM:-0500
TZOFFSETTO:-0400
TZNAME:EDT
DTSTART:20230312T070000
END:DAYLIGHT
BEGIN:STANDARD
TZOFFSETFROM:-0400
TZOFFSETTO:-0500
TZNAME:EST
DTSTART:20231105T060000
END:STANDARD
BEGIN:DAYLIGHT
TZOFFSETFROM:-0500
TZOFFSETTO:-0400
TZNAME:EDT
DTSTART:20240310T070000
END:DAYLIGHT
BEGIN:STANDARD
TZOFFSETFROM:-0400
TZOFFSETTO:-0500
TZNAME:EST
DTSTART:20241103T060000
END:STANDARD
BEGIN:DAYLIGHT
TZOFFSETFROM:-0500
TZOFFSETTO:-0400
TZNAME:EDT
DTSTART:20250309T070000
END:DAYLIGHT
BEGIN:STANDARD
TZOFFSETFROM:-0400
TZOFFSETTO:-0500
TZNAME:EST
DTSTART:20251102T060000
END:STANDARD
END:VTIMEZONE
BEGIN:VEVENT
DTSTART;TZID=America/New_York:20240525T110000
DTEND;TZID=America/New_York:20240525T160000
DTSTAMP:20260424T090947
CREATED:20240506T175453Z
LAST-MODIFIED:20240521T180810Z
UID:1020-1716634800-1716652800@sharpsburgmd.com
SUMMARY:Annual Memorial Day Commemoration
DESCRIPTION:Wreath Laying Ceremony at 11:00 AM \nParade at 2:00 PM \nThe parade will leave the elementary school and travel east on Main Street/Rt.34 to the National Cemetery. \nMain Street will be closed in its entirety at 1:45PM. The closure will extend eastbound from Canal Rd to Rodman Ave and include all ancillary routes of ingress. \n 
URL:https://sharpsburgmd.com/event/annual-memorial-day-parade/
ATTACH;FMTTYPE=application/pdf:https://sharpsburgmd.com/wp-content/uploads/2024/05/Memorial-Day-Parade.pdf
END:VEVENT
BEGIN:VEVENT
DTSTART;TZID=America/New_York:20240516T000000
DTEND;TZID=America/New_York:20240516T000000
DTSTAMP:20260424T090947
CREATED:20240506T180539Z
LAST-MODIFIED:20240506T180539Z
UID:1030-1715817600-1715817600@sharpsburgmd.com
SUMMARY:Curbside Bulk Clean Up
DESCRIPTION:
URL:https://sharpsburgmd.com/event/curbside-bulk-clean-up-3/
ATTACH;FMTTYPE=application/pdf:https://sharpsburgmd.com/wp-content/uploads/2024/05/Spring-Curbside-Bulk-Collection-2.pdf
END:VEVENT
BEGIN:VEVENT
DTSTART;TZID=America/New_York:20240513T170000
DTEND;TZID=America/New_York:20240513T190000
DTSTAMP:20260424T090947
CREATED:20240507T155021Z
LAST-MODIFIED:20240507T155021Z
UID:1033-1715619600-1715626800@sharpsburgmd.com
SUMMARY:FY25 Budget Work Session and Public Notice
DESCRIPTION:
URL:https://sharpsburgmd.com/event/fy25-budget-work-session-and-public-notice/
LOCATION:Town Hall\, 106 E. Main Street\, Sharpsburg\, MD\, 21782\, United States
ATTACH;FMTTYPE=application/pdf:https://sharpsburgmd.com/wp-content/uploads/2024/05/FY25Budget-Work-Session.Public-Hearing-Notice.pdf
END:VEVENT
BEGIN:VEVENT
DTSTART;TZID=America/New_York:20240506T180000
DTEND;TZID=America/New_York:20240506T200000
DTSTAMP:20260424T090947
CREATED:20240506T163805Z
LAST-MODIFIED:20240506T163805Z
UID:1017-1715018400-1715025600@sharpsburgmd.com
SUMMARY:Mayor and Council Meeting
DESCRIPTION:
URL:https://sharpsburgmd.com/event/mayor-and-council-meeting/
LOCATION:Town Hall\, 106 E. Main Street\, Sharpsburg\, MD\, 21782\, United States
ATTACH;FMTTYPE=application/pdf:https://sharpsburgmd.com/wp-content/uploads/2024/05/May2024Council-Agenda-1.pdf
END:VEVENT
BEGIN:VEVENT
DTSTART;TZID=America/New_York:20240401T180000
DTEND;TZID=America/New_York:20240401T193000
DTSTAMP:20260424T090947
CREATED:20240313T211732Z
LAST-MODIFIED:20240313T211732Z
UID:950-1711994400-1711999800@sharpsburgmd.com
SUMMARY:April Sharpsburg Mayor & Town Council Meeting
DESCRIPTION:Town of Sharpsburg Mayor & Council Meetings are held at 6PM on the 1st Monday of each month.
URL:https://sharpsburgmd.com/event/april-sharpsburg-mayor-town-council-meeting/
LOCATION:Town Hall\, 106 E. Main Street\, Sharpsburg\, MD\, 21782\, United States
ATTACH;FMTTYPE=image/jpeg:https://sharpsburgmd.com/wp-content/uploads/2024/03/COUNCIL-MEETING-GRAPHIC-01-scaled-e1710364380849.jpg
ORGANIZER;CN="Town of Sharpsburg":MAILTO:townofsharpsburg@comcast.net
END:VEVENT
BEGIN:VEVENT
DTSTART;TZID=America/New_York:20220912T180000
DTEND;TZID=America/New_York:20220912T193000
DTSTAMP:20260424T090947
CREATED:20220830T143337Z
LAST-MODIFIED:20220830T143337Z
UID:745-1663005600-1663011000@sharpsburgmd.com
SUMMARY:Mayor & Council Monthly Meeting
DESCRIPTION:
URL:https://sharpsburgmd.com/event/mayor-council-monthly-meeting/
LOCATION:Town Hall\, 106 E. Main Street\, Sharpsburg\, MD\, 21782\, United States
END:VEVENT
BEGIN:VEVENT
DTSTART;TZID=America/New_York:20220711T180000
DTEND;TZID=America/New_York:20220711T180000
DTSTAMP:20260424T090947
CREATED:20220404T005537Z
LAST-MODIFIED:20220404T005537Z
UID:575-1657562400-1657562400@sharpsburgmd.com
SUMMARY:Mayor & Council Meeting
DESCRIPTION:
URL:https://sharpsburgmd.com/event/mayor-council-meeting-4/
LOCATION:Town Hall\, 106 E. Main Street\, Sharpsburg\, MD\, 21782\, United States
END:VEVENT
BEGIN:VEVENT
DTSTART;TZID=America/New_York:20220606T180000
DTEND;TZID=America/New_York:20220606T180000
DTSTAMP:20260424T090947
CREATED:20220404T005337Z
LAST-MODIFIED:20220404T005337Z
UID:573-1654538400-1654538400@sharpsburgmd.com
SUMMARY:Mayor & Council Meeting
DESCRIPTION:
URL:https://sharpsburgmd.com/event/mayor-council-meeting-3/
LOCATION:Town Hall\, 106 E. Main Street\, Sharpsburg\, MD\, 21782\, United States
END:VEVENT
BEGIN:VEVENT
DTSTART;TZID=America/New_York:20220528T110000
DTEND;TZID=America/New_York:20220528T170000
DTSTAMP:20260424T090947
CREATED:20220404T025545Z
LAST-MODIFIED:20220426T144634Z
UID:523-1653735600-1653757200@sharpsburgmd.com
SUMMARY:Sharpsburg Memorial Day Commemoration
DESCRIPTION:WREATH LAYING – PARADE – VEHICLE SHOW \nThe Sharpsburg Memorial Day Parade is the Nation’s oldest continuously observed Memorial Day Commemoration! \n \nSCHEDULE OF EVENTS \nWreath Laying: 11:00 am at Town Hall \nParade Participants Arrival: No later than 1:30 pm at Sharpsburg Elementary School \nParade: 2:00 pm\, located along Main Street – Starts at Sharpsburg Elementary School and Ends at Antietam National Cemetary. \nMilitary & Classical Vehicle Show: Immediately following the parade on North Mechanic Street near town square.
URL:https://sharpsburgmd.com/event/sharpsburg-memorial-day-commemoration/
LOCATION:Town Hall\, 106 E. Main Street\, Sharpsburg\, MD\, 21782\, United States
END:VEVENT
BEGIN:VEVENT
DTSTART;TZID=America/New_York:20220502T180000
DTEND;TZID=America/New_York:20220502T180000
DTSTAMP:20260424T090947
CREATED:20220403T120016Z
LAST-MODIFIED:20220404T005257Z
UID:570-1651514400-1651514400@sharpsburgmd.com
SUMMARY:Mayor & Council Meeting
DESCRIPTION:
URL:https://sharpsburgmd.com/event/mayor-council-meeting-2/
LOCATION:Town Hall\, 106 E. Main Street\, Sharpsburg\, MD\, 21782\, United States
END:VEVENT
BEGIN:VEVENT
DTSTART;TZID=America/New_York:20220417T113000
DTEND;TZID=America/New_York:20220417T113000
DTSTAMP:20260424T090947
CREATED:20220404T013913Z
LAST-MODIFIED:20220404T014550Z
UID:589-1650195000-1650195000@sharpsburgmd.com
SUMMARY:Easter Egg Hunt
DESCRIPTION:
URL:https://sharpsburgmd.com/event/easter-egg-hunt/
LOCATION:St. Paul’s Episcopal Church\, 209 W Main St\, Sharpsburg\, MD\, 21782\, United States
END:VEVENT
BEGIN:VEVENT
DTSTART;TZID=America/New_York:20220409T090000
DTEND;TZID=America/New_York:20220409T160000
DTSTAMP:20260424T090947
CREATED:20220404T012529Z
LAST-MODIFIED:20220404T012529Z
UID:581-1649494800-1649520000@sharpsburgmd.com
SUMMARY:Native American Artifacts and Arrowhead Exhibit
DESCRIPTION:
URL:https://sharpsburgmd.com/event/native-american-artifacts-and-arrowhead-exhibit/
LOCATION:Sharpsburgh Museum of History\, 106 E. Main Street\, Sharpsburg\, MD\, 21782\, United States
ORGANIZER;CN="Ed Beeler":MAILTO:Loveshistory.1866@gmail.com
END:VEVENT
BEGIN:VEVENT
DTSTART;TZID=America/New_York:20220407T153000
DTEND;TZID=America/New_York:20220407T153000
DTSTAMP:20260424T090947
CREATED:20220404T011703Z
LAST-MODIFIED:20220404T011745Z
UID:577-1649345400-1649345400@sharpsburgmd.com
SUMMARY:Special Story Time - Library
DESCRIPTION:Wear your PJ’s for bedtime stories\, chocolate milk\, and cookies.
URL:https://sharpsburgmd.com/event/special-story-time-library/
LOCATION:Sharpsburg Library\, 106 E. Main Street\, Sharpsburg\, MD\, 21782\, United States
END:VEVENT
BEGIN:VEVENT
DTSTART;TZID=America/New_York:20220404T180000
DTEND;TZID=America/New_York:20220404T180000
DTSTAMP:20260424T090947
CREATED:20220404T003719Z
LAST-MODIFIED:20220404T004052Z
UID:562-1649095200-1649095200@sharpsburgmd.com
SUMMARY:Mayor & Council Meeting
DESCRIPTION:
URL:https://sharpsburgmd.com/event/mayor-council-meeting/
LOCATION:Town Hall\, 106 E. Main Street\, Sharpsburg\, MD\, 21782\, United States
END:VEVENT
END:VCALENDAR