BEGIN:VCALENDAR
VERSION:2.0
PRODID:-//Town of Sharpsburg, Maryland - ECPv6.15.20//NONSGML v1.0//EN
CALSCALE:GREGORIAN
METHOD:PUBLISH
X-WR-CALNAME:Town of Sharpsburg, Maryland
X-ORIGINAL-URL:https://sharpsburgmd.com
X-WR-CALDESC:Events for Town of Sharpsburg, Maryland
REFRESH-INTERVAL;VALUE=DURATION:PT1H
X-Robots-Tag:noindex
X-PUBLISHED-TTL:PT1H
BEGIN:VTIMEZONE
TZID:America/New_York
BEGIN:DAYLIGHT
TZOFFSETFROM:-0500
TZOFFSETTO:-0400
TZNAME:EDT
DTSTART:20210314T070000
END:DAYLIGHT
BEGIN:STANDARD
TZOFFSETFROM:-0400
TZOFFSETTO:-0500
TZNAME:EST
DTSTART:20211107T060000
END:STANDARD
BEGIN:DAYLIGHT
TZOFFSETFROM:-0500
TZOFFSETTO:-0400
TZNAME:EDT
DTSTART:20220313T070000
END:DAYLIGHT
BEGIN:STANDARD
TZOFFSETFROM:-0400
TZOFFSETTO:-0500
TZNAME:EST
DTSTART:20221106T060000
END:STANDARD
BEGIN:DAYLIGHT
TZOFFSETFROM:-0500
TZOFFSETTO:-0400
TZNAME:EDT
DTSTART:20230312T070000
END:DAYLIGHT
BEGIN:STANDARD
TZOFFSETFROM:-0400
TZOFFSETTO:-0500
TZNAME:EST
DTSTART:20231105T060000
END:STANDARD
END:VTIMEZONE
BEGIN:VEVENT
DTSTART;TZID=America/New_York:20220404T180000
DTEND;TZID=America/New_York:20220404T180000
DTSTAMP:20260424T091733
CREATED:20220404T003719Z
LAST-MODIFIED:20220404T004052Z
UID:562-1649095200-1649095200@sharpsburgmd.com
SUMMARY:Mayor & Council Meeting
DESCRIPTION:
URL:https://sharpsburgmd.com/event/mayor-council-meeting/
LOCATION:Town Hall\, 106 E. Main Street\, Sharpsburg\, MD\, 21782\, United States
END:VEVENT
END:VCALENDAR